BEGIN:VCALENDAR
VERSION:2.0
PRODID:-//hacksw/handcal//NONSGML v1.0//EN
BEGIN:VEVENT
DTSTAMP:20260621T233000Z
DTSTART:20260621T233000Z
DTEND:20260622T013000Z

SUMMARY:Allen Stone
DESCRIPTION:Allen Stone, a soul/R&B luminary, has enraptured global audiences with his electrifying performances and soulful melodies, embodying the essence of classic soul legends. His genre-defying style, blending funk, gospel, folk-rock, and soul, has garnered critical acclaim and a devoted following. Stone&#39;s journey to musical stardom commenced in Chewelah, Washington, where his upbringing immersed him in gospel music as a pastor&#39;s son.Relocating to Seattle, he tirelessly toured the West Coast in his &#39;87 Buick, swiftly gaining acclaim for his dynamic live shows, often playing up to 200 dates annually alongside luminaries such as Stevie Wonder, Al Green, Dave Matthews Band, Erykah Badu, Gary Clark Jr., and Chris Stapleton, further solidifying his status as a tour de force in the music industry. Alongside his prolific touring schedule, Stone has graced national television screens, including The Kelly Clarkson Show, Jimmy Kimmel Live, The Today Show, and a celebrity mentor on ABC&#39;s American Idol.Stone continues to garner critical acclaim with his latest body of work, Mystery, featuring the title track in collaboration with PJ Morton. This release brings infectious rhythms and emotional depth, solidifying Stone’s place as a powerful voice in modern soul music.
END:VEVENT
END:VCALENDAR