BEGIN:VCALENDAR
VERSION:2.0
PRODID:-//hacksw/handcal//NONSGML v1.0//EN
BEGIN:VEVENT
DTSTAMP:20260506T233000Z
DTSTART:20260506T233000Z
DTEND:20260507T013000Z

SUMMARY:Greenville County Youth Orchestras Spring Concert
DESCRIPTION:Join us for a concert that features the talented students of Greenville County Youth Orchestras (GCYO) led by conductors Neil Casey, Elizabeth Conrad, Patrick Murch, Charis Burger, and Kathy Robinson. The ensembles include Prelude, Intermezzo, Philharmonic, and The Young Artist Orchestra. They will perform advanced orchestral music. Greenville County Youth Orchestras, celebrating more than 50 years of music making, is an educational program for students in Greenville who play an orchestral instrument. Find out more information at gcyo.net. Auditions are held every spring in May. GCYO rehearses weekly at the Fine Arts Center and at League Academy. Greenville County Youth Orchestras Association is a local arts non profit organization that receives support from the Greenville County School District, Metropolitan Arts Council, the South Carolina Arts Commission, and private donations from friends of the organization. Thank you for making this concert possible!
END:VEVENT
END:VCALENDAR