BEGIN:VCALENDAR
VERSION:2.0
PRODID:-//hacksw/handcal//NONSGML v1.0//EN
BEGIN:VEVENT
DTSTAMP:20260516T233000Z
DTSTART:20260516T233000Z
DTEND:20260517T013000Z

SUMMARY:Season Finale: Porgy and Bess 
DESCRIPTION:ProgramAaron Copland: Old American Songs George Gershwin: Porgy and Bess, A Concert of Songs GuestsLaquita Mitchell, soprano Kate Jackman, mezzo-soprano DeAndre Simmons, baritone Chorusmaster: William Burgess Conclude the Greenville Symphony Orchestra’s “American Season” with a powerful concert performance of George Gershwin’s Porgy and Bess. DeAndre Simmons and Laquita Mitchell take star turns as Porgy and Bess, with timeless classics like “Summertime” and “It Ain’t Necessarily So.” American mezzo-soprano Kate Jackman is our soloist for Copland’s poignant and delightful Old American Songs, alternating with a chorus of Greenville’s finest singers led by William Burgess.
END:VEVENT
END:VCALENDAR