BEGIN:VCALENDAR
VERSION:2.0
PRODID:-//hacksw/handcal//NONSGML v1.0//EN
BEGIN:VEVENT
DTSTAMP:20260718T233000Z
DTSTART:20260718T233000Z
DTEND:20260719T013000Z

SUMMARY:Song Sessions: Maia Sharp with Gabe Dixon & Lucie Silvas
DESCRIPTION:Welcome to Song Sessions, your singer-songwriter concert series in The Mockingbird. Led by Nashville musician and Greenville fan favorite Maia Sharp, these intimate sessions of stories and songs feature a rotating lineup of guest songwriters each month. This is the place to be for anyone who deeply connects with music and enjoys tales about the musician&#39;s life.This July, Maia Sharp is joined by Gabe Dixon & Lucie Silvas.Maia Sharp is an acclaimed songwriter whose work has been recorded by artists including Bonnie Raitt, The Chicks, Cher, and Trisha Yearwood. She has released nine solo albums, collaborated with Art Garfunkel and Buddy Mondlock, and performs with her duo Roscoe & Etta. An adjunct professor at NYU and longtime collaborator with Songwriting With: Soldiers, her latest album Tomboy was released in September 2025.Gabe Dixon is a Nashville-based singer-songwriter and multi-instrumentalist known for his honest, heartfelt songs since 1999. His work has been covered by artists like Garth Brooks and Taj Mahal & Keb’ Mo’, and featured in films like The Proposal and shows including Grey’s Anatomy and Nashville. He has performed with Paul McCartney and Alison Krauss, and is a member of Tedeschi Trucks Band, contributing to their I Am The Moon project. His latest album, Parts I’ve Played, continues to showcase his evolving sound.Learn more about Gabe Dixon at gabedixon.com Lucie Silvas is a British-born, Nashville-based singer-songwriter celebrated for her soulful voice and genre-blending style. Her debut album Breathe In sold over a million copies worldwide, launching an acclaimed career. Now a key part of Nashville’s music scene, she has toured with artists like Chris Stapleton and Brandi Carlile, and released several praised albums including EGO. As a songwriter, her work has been recorded by Miranda Lambert, Reba McEntire, and Kelly Clarkson, with music featured in major TV shows and films.Learn more about Lucie Silvas at luciesilvas.com
END:VEVENT
END:VCALENDAR