BEGIN:VCALENDAR
VERSION:2.0
PRODID:-//hacksw/handcal//NONSGML v1.0//EN
BEGIN:VEVENT
DTSTAMP:20260822T233000Z
DTSTART:20260822T233000Z
DTEND:20260823T013000Z

SUMMARY:Song Sessions: Maia Sharp with John Alagia & Fancy Hagood
DESCRIPTION:Welcome to Song Sessions, your singer-songwriter concert series in The Mockingbird. Led by Nashville musician and Greenville fan favorite Maia Sharp, these intimate sessions of stories and songs feature a rotating lineup of guest songwriters each month. This is the place to be for anyone who deeply connects with music and enjoys tales about the musician&#39;s life.This August, Maia Sharp is joined by John Alagia & Fancy Hagood.Maia Sharp is an acclaimed songwriter whose work has been recorded by artists including Bonnie Raitt, The Chicks, Cher, and Trisha Yearwood. She has released nine solo albums, collaborated with Art Garfunkel and Buddy Mondlock, and performs with her duo Roscoe & Etta. An adjunct professor at NYU and longtime collaborator with Songwriting With: Soldiers, her latest album Tomboy was released in September 2025.John Alagia is an Grammy-nominated American record producer, composer, mixer, and engineer who has worked with artists including Dave Matthews, John Mayer, Jason Mraz, Paul Simon, and Herbie Hancock, among many others. A three-time Grammy nominee, he is based at the Village Recorder in West Los Angeles, where he works out of his longtime studio space.Explore John Alagia&#39;s credited work. Fancy Hagood arrived in Nashville at 17 and has since become one of the country&#39;s most charismatic, boundary-pushing voices. Following his acclaimed album American Spirit, he continues to blend country, pop, and glam influences while moving into a new era rooted in bluegrass and organic instrumentation. Fancy Hagood has just released his new EP BABY JAKE.Learn more about Fancy Hagood at fancyhagood.com. 
END:VEVENT
END:VCALENDAR