BEGIN:VCALENDAR
VERSION:2.0
PRODID:-//hacksw/handcal//NONSGML v1.0//EN
BEGIN:VEVENT
DTSTAMP:20260422T233000Z
DTSTART:20260422T233000Z
DTEND:20260423T013000Z

SUMMARY:Fine Arts Center Jazz All Stars
DESCRIPTION:The Peace Center is proud to present the Fine Arts Center Jazz All-Stars concert series. Celebrating its eighth year, the series supports rising student musicians through professional, paid performance opportunities that prepare them for careers in the arts and entertainment industry. Catch Greenville’s next generation of jazz talent live at The Mockingbird!
END:VEVENT
END:VCALENDAR